dset ^pgb.anl.1981080100.grib
index ^pgb.anl.1981080100.grib.idx
undef 9.999E+20
title pgb.anl.1981080100.grib
* produced by grib2ctl v0.9.12.5p30
dtype grib 2
options yrev
ydef 73 linear -90.000000 2.5
xdef 144 linear 0.000000 2.500000
tdef 1 linear 00Z01aug1981 1mo
zdef 17 levels 1000 925 850 700 600 500 400 300 250 200 150 100 70 50 30 20 10
vars 12
ABSVprs 17 41,100,0 ** Absolute vorticity [/s]
HGTsfc 0 7,1,0 ** Geopotential height [gpm]
HGTprs 17 7,100,0 ** Geopotential height [gpm]
PRATEsfc 0 59,1,0 ** Precipitation rate [kg/m^2/s]
PRESsfc 0 1,1,0 ** Pressure [Pa]
PRESmsl 0 1,102,0 ** Pressure [Pa]
PWATclm 0 54,200,0 ** Precipitable water [kg/m^2]
RHprs 17 52,100,0 ** Relative humidity [%]
TMPprs 17 11,100,0 ** Temp. [K]
UGRDprs 17 33,100,0 ** u wind [m/s]
VGRDprs 17 34,100,0 ** v wind [m/s]
VVELprs 17 39,100,0 ** Pressure vertical velocity [Pa/s]
ENDVARS
