dset ^dg3.ft06.2000120100.grib
index ^dg3.ft06.2000120100.grib.idx
undef 9.999E+20
title dg3.ft06.2000120100.grib
* produced by grib2ctl v0.9.12.5p30
dtype grib 98
options yrev
xdef 192 linear 0.000000 1.875
ydef 94 levels -88.542 -86.653 -84.753 -82.851 -80.947 -79.043 -77.139 -75.235 -73.331 -71.426 -69.522 -67.617 -65.713 -63.808 -61.903 -59.999 -58.094 -56.189 -54.285 -52.380 -50.475 -48.571 -46.666 -44.761 -42.856 -40.952 -39.047 -37.142 -35.238 -33.333 -31.428 -29.523 -27.619 -25.714 -23.809 -21.904 -20.000 -18.095 -16.190 -14.286 -12.381 -10.476 -8.571 -6.667 -4.762 -2.857 -0.952 0.952 2.857 4.762 6.667 8.571 10.476 12.381 14.286 16.190 18.095 20.000 21.904 23.809 25.714 27.619 29.523 31.428 33.333 35.238 37.142 39.047 40.952 42.856 44.761 46.666 48.571 50.475 52.380 54.285 56.189 58.094 59.999 61.903 63.808 65.713 67.617 69.522 71.426 73.331 75.235 77.139 79.043 80.947 82.851 84.753 86.653 88.542
tdef 1 linear 00Z01dec2000 1mo
zdef 28 levels 9950 9820 9640 9420 9155 8835 8454 8009 7499 6934 6323 5678 5012 4352 3717 3122 2582 2102 1682 1323 1023 778 578 413 278 174 93 25
vars 60
ALBDOsfc 0 84,1,0 ** Albedo [%]
CDCONsfc 0 72,1,0 ** Convective cloud cover [%]
CDCONsig 28 72,107,0 ** Convective cloud cover [%]
CFNLFsfc 0 165,1,0 ** Cloud forcing net long wave flux [W/m^2]
CFNLFclm 0 165,200,0 ** Cloud forcing net long wave flux [W/m^2]
CFNLFtoa 0 165,8,0 ** Cloud forcing net long wave flux [W/m^2]
CFNSFsfc 0 164,1,0 ** Cloud forcing net solar flux [W/m^2]
CFNSFclm 0 164,200,0 ** Cloud forcing net solar flux [W/m^2]
CFNSFtoa 0 164,8,0 ** Cloud forcing net solar flux [W/m^2]
CNVHRsig 28 242,107,0 ** Deep convective heating [K/s]
CNVMRsig 28 243,107,0 ** Deep convective moistening [kg/kg/s]
CPRATsfc 0 214,1,0 ** Convective precip. rate [kg/m^2/s]
CSDLFsfc 0 163,1,0 ** Clear sky downward long wave flux [W/m^2]
CSDSFsfc 0 161,1,0 ** Clear sky downward solar flux [W/m^2]
CSULFtoa 0 162,8,0 ** Clear sky upward long wave flux [W/m^2]
CSUSFsfc 0 160,1,0 ** Clear sky upward solar flux [W/m^2]
CSUSFtoa 0 160,8,0 ** Clear sky upward solar flux [W/m^2]
DLWRFsfc 0 205,1,0 ** Downward long wave flux [W/m^2]
DSWRFsfc 0 204,1,0 ** Downward solar radiation flux [W/m^2]
DSWRFtoa 0 204,8,0 ** Downward solar radiation flux [W/m^2]
LHTFLsfc 0 121,1,0 ** Latent heat flux [W/m^2]
LRGHRsig 28 241,107,0 ** Large scale condensation heating [K/s]
LWHRsig 28 251,107,0 ** Longwave radiative heating [K/s]
NBDSFsfc 0 168,1,0 ** Near IR beam downward solar flux [W/m^2]
NDDSFsfc 0 169,1,0 ** Near IR diffuse downward solar flux [W/m^2]
PRATEsfc 0 59,1,0 ** Precipitation rate [kg/m^2/s]
SFCRsfc 0 83,1,0 ** Surface roughness [m]
SGLYRlcb 0 175,212,0 ** Nearby model level [integer]
SGLYRlct 0 175,213,0 ** Nearby model level [integer]
SGLYRmcb 0 175,222,0 ** Nearby model level [integer]
SGLYRmct 0 175,223,0 ** Nearby model level [integer]
SGLYRhcb 0 175,232,0 ** Nearby model level [integer]
SGLYRhct 0 175,233,0 ** Nearby model level [integer]
SHAHRsig 28 244,107,0 ** Shallow convective heating [K/s]
SHAMRsig 28 245,107,0 ** Shallow convective moistening [kg/kg/s]
SHTFLsfc 0 122,1,0 ** Sensible heat flux [W/m^2]
SOILWSoilT 0 144,112,10 ** Volumetric soil moisture [fraction]
SOILWSoilM 0 144,112,2760 ** Volumetric soil moisture [fraction]
SWHRsig 28 250,107,0 ** Solar radiative heating [K/s]
TCDCsig 28 71,107,0 ** Total cloud cover [%]
TCDClcl 0 71,214,0 ** Total cloud cover [%]
TCDCmcl 0 71,224,0 ** Total cloud cover [%]
TCDChcl 0 71,234,0 ** Total cloud cover [%]
TMPsfc 0 11,1,0 ** Temp. [K]
TMPSoilB 0 11,111,300 ** Temp. [K]
TMPSoilT 0 11,112,10 ** Temp. [K]
TMPSoilM 0 11,112,2760 ** Temp. [K]
UFLXsfc 0 124,1,0 ** Zonal momentum flux [N/m^2]
ULWRFsfc 0 212,1,0 ** Upward long wave flux [W/m^2]
ULWRFtoa 0 212,8,0 ** Upward long wave flux [W/m^2]
USWRFsfc 0 211,1,0 ** Upward solar radiation flux [W/m^2]
USWRFtoa 0 211,8,0 ** Upward solar radiation flux [W/m^2]
VBDSFsfc 0 166,1,0 ** Visible beam downward solar flux [W/m^2]
VDDSFsfc 0 167,1,0 ** Visible diffuse downward solar flux [W/m^2]
VDFHRsig 28 246,107,0 ** Vertical diffusion heating [K/s]
VDFMRsig 28 249,107,0 ** Vertical diffusion moistening [kg/kg/s]
VDFUAsig 28 247,107,0 ** Vertical diffusion zonal accel [m/s^2]
VDFVAsig 28 248,107,0 ** Vertical diffusion meridional accel [m/s^2]
VFLXsfc 0 125,1,0 ** Meridional momentum flux [N/m^2]
WEASDsfc 0 65,1,0 ** Accum. snow [kg/m^2]
ENDVARS
